BEGIN:VCALENDAR
VERSION:2.0
PRODID:-//d.r.i.f.t.  - ECPv6.9.0//NONSGML v1.0//EN
CALSCALE:GREGORIAN
METHOD:PUBLISH
X-WR-CALNAME:d.r.i.f.t. 
X-ORIGINAL-URL:https://driftheatre.org
X-WR-CALDESC:Events for d.r.i.f.t. 
REFRESH-INTERVAL;VALUE=DURATION:PT1H
X-Robots-Tag:noindex
X-PUBLISHED-TTL:PT1H
BEGIN:VTIMEZONE
TZID:Asia/Kolkata
BEGIN:STANDARD
TZOFFSETFROM:+0530
TZOFFSETTO:+0530
TZNAME:IST
DTSTART:20170101T000000
END:STANDARD
END:VTIMEZONE
BEGIN:VEVENT
DTSTART;TZID=Asia/Kolkata:20170613T180000
DTEND;TZID=Asia/Kolkata:20170613T193000
DTSTAMP:20260422T021918
CREATED:20201205T092527Z
LAST-MODIFIED:20201205T093221Z
UID:2435-1497376800-1497382200@driftheatre.org
SUMMARY:D.R.I.F.T. Reads:. Session I
DESCRIPTION:D.R.I.F.T. is bringing to you it’s new series called the D.R.I.F.T. Reads. \nIf you like reading aloud or like listening to people read\, this is just the thing for you.\nCome join us for our first session of readings with a warm cuppa coffee at your favourite cafe in town\, Illiterati Cafe!\nWe’ll be reading out a sélection from a radio play/short stories/plays by authors such as Oliver Sacks\, Haruki Murakami\, Roald Dahl\, Sadat Hasan Manto. etc.\nIf you have any suggestions for us and/or would like to join us as readers for the following sessions\, get in touch with us! 
URL:https://driftheatre.org/event/d-r-i-f-t-reads-session-i/
LOCATION:Illiterati Books & Coffee\, Jogiwara Rd\, Dharamshala\, Himachal Pradesh 176219\, 176219\, India
END:VEVENT
END:VCALENDAR