BEGIN:VCALENDAR
VERSION:2.0
PRODID:-//d.r.i.f.t.  - ECPv6.9.0//NONSGML v1.0//EN
CALSCALE:GREGORIAN
METHOD:PUBLISH
X-WR-CALNAME:d.r.i.f.t. 
X-ORIGINAL-URL:https://driftheatre.org
X-WR-CALDESC:Events for d.r.i.f.t. 
REFRESH-INTERVAL;VALUE=DURATION:PT1H
X-Robots-Tag:noindex
X-PUBLISHED-TTL:PT1H
BEGIN:VTIMEZONE
TZID:Asia/Kolkata
BEGIN:STANDARD
TZOFFSETFROM:+0530
TZOFFSETTO:+0530
TZNAME:IST
DTSTART:20170101T000000
END:STANDARD
END:VTIMEZONE
BEGIN:VEVENT
DTSTART;TZID=Asia/Kolkata:20170712T180000
DTEND;TZID=Asia/Kolkata:20170712T193000
DTSTAMP:20260422T004343
CREATED:20201205T094012Z
LAST-MODIFIED:20201205T095027Z
UID:2449-1499882400-1499887800@driftheatre.org
SUMMARY:DRIFT Reads: Session III (Monsoon Special)
DESCRIPTION:Welcome again to DRIFT Reads: Session III (Monsoon Special)\nThe rains have hit Dhasa and it’s pouring out there\, what better than to curl up with a hot chocolate and listen to a good read from writers all over and feel everything that monsoons can make you feel\, but through words.\nCome join us at the lovely Bogdo Cafe for readings from Tagore\, Kalidasa\, Tenzin Tsundue\, Gulzar and some extracts about the monsoons from 10th century Arab texts.\nWe look forward to seeing your lovely faces again 
URL:https://driftheatre.org/event/drift-reads-session-iii-monsoon-special/
LOCATION:Bogdo Cafe\, McLeod Ganj\, Dharamshala\, Himachal Pradesh 176219\, India
END:VEVENT
END:VCALENDAR