BEGIN:VCALENDAR
VERSION:2.0
PRODID:-//d.r.i.f.t.  - ECPv6.9.0//NONSGML v1.0//EN
CALSCALE:GREGORIAN
METHOD:PUBLISH
X-ORIGINAL-URL:https://driftheatre.org
X-WR-CALDESC:Events for d.r.i.f.t. 
REFRESH-INTERVAL;VALUE=DURATION:PT1H
X-Robots-Tag:noindex
X-PUBLISHED-TTL:PT1H
BEGIN:VTIMEZONE
TZID:Asia/Kolkata
BEGIN:STANDARD
TZOFFSETFROM:+0530
TZOFFSETTO:+0530
TZNAME:IST
DTSTART:20170101T000000
END:STANDARD
END:VTIMEZONE
BEGIN:VEVENT
DTSTART;VALUE=DATE:20170713
DTEND;VALUE=DATE:20170717
DTSTAMP:20260422T004423
CREATED:20201205T093537Z
LAST-MODIFIED:20201205T095034Z
UID:2444-1499904000-1500249599@driftheatre.org
SUMMARY:An Actor's Role - A 4-Day Acting Workshop with Padma Damodaran
DESCRIPTION:The Actor’s Role:\nA four-day workshop to understand the basics of acting and the art of storytelling\, facilitated by \n\ndrift\n. Every actor is essentially subservient to the story he or she is portraying. Understanding the story\, the text and its subtext is as important as developing the technical skills he or she must have – in terms of loosening up of the body\, exploring and expanding the voice\, triggering one’s imagination\, and understanding a story and its underlying intentions. The workshop will involve physical\, vocal and imagination warm-ups\, theatre games\, improvisations and playing around with words and text. Participants will also be taken through various exercises in order to understand their own selves and overcome their inhibitions; to develop the fine skill of observation in order to understand how and why people behave the way they do; and to develop a genuine interest in the arts to make their own performances exciting\, imaginative and powerful. And of course\, what are the stories we are telling and why. \n\nDetails:\nDates: 13th – 16th July\, 2017\nTimings: 3 PM – 5 PM on Thursday and Friday.\n11 AM – 5 PM on Saturday and Sunday.\nVenue: Blossos Village Resort\, Sidhpur\nFees: 3\,000 INR (Rs. 2\,500 if you register before 5th of July)\nWe have only 12 seats for the workshop. Please call 83518 09473 to register!\n\nRequirements:\nWillingness and passion to participate in all text and floor work\, and desire to learn. (Note: the more you give to the work\, the more you get out of it.) Participants are encouraged to get short stories/plays they would like to work on as well as monologues/poems that have captivated their hearts. All languages are welcome; preferably\, participants should get something in their mother-tongue.\n\nAbout the instructor: \nPadma Damodaran\nis a Mumbai-based actor\, director\, writer and trainer. She has been nominated for acting awards\, and is also a founder/co-convenor of Mumbai’s only theatre school – \nThe Drama School Mumbai\n. Padma has an MA in Acting from \nEast 15 Acting School\n\, UK.
URL:https://driftheatre.org/event/an-actors-role-a-4-day-acting-workshop-with-padma-damodaran/
LOCATION:Blossoms Village Resort\, Khanyara Road Sidhpur\, Dharamshala\, Himachal Pradesh 176057\, India
END:VEVENT
END:VCALENDAR