BEGIN:VCALENDAR
VERSION:2.0
PRODID:-//d.r.i.f.t.  - ECPv6.9.0//NONSGML v1.0//EN
CALSCALE:GREGORIAN
METHOD:PUBLISH
X-ORIGINAL-URL:https://driftheatre.org
X-WR-CALDESC:Events for d.r.i.f.t. 
REFRESH-INTERVAL;VALUE=DURATION:PT1H
X-Robots-Tag:noindex
X-PUBLISHED-TTL:PT1H
BEGIN:VTIMEZONE
TZID:Asia/Kolkata
BEGIN:STANDARD
TZOFFSETFROM:+0530
TZOFFSETTO:+0530
TZNAME:IST
DTSTART:20170101T000000
END:STANDARD
END:VTIMEZONE
BEGIN:VEVENT
DTSTART;TZID=Asia/Kolkata:20170809T180000
DTEND;TZID=Asia/Kolkata:20170809T193000
DTSTAMP:20260421T231716
CREATED:20201205T095530Z
LAST-MODIFIED:20201205T100028Z
UID:2459-1502301600-1502307000@driftheatre.org
SUMMARY:DRIFT Reads: Session V (Fairy Tales Special)
DESCRIPTION:Dharamshala Residential & International Festival for Theatre Presents D.R.I.F.T. Reads: Session V.\nDeep enchanted forests\, otherworldly creatures\, mystical realms & kingdoms; our theme this time around comes along with a sprinkle of magic and stardust; Fairy Tales.\nJoin us at the stroke of sunset at the dreamy Chocolate Log for a magical evening ; a hot cuppa chocolate & perhaps an apple pie !\nOur lineup includes The Famous\, The Creative & The Bizarre.\n– Rapunzel from The Grimm Tales\n– Vikram & Betal\n– The Company of Wolves by Angela Carter\n– The Moon from The Grimm Tales\n– Tibetan Fairy Tales\n– Rapunzel from Politically Correct Bedtime Stories\nWhat better way to make night meet day than to call upon the Lands of Forever After. We look forward to seeing you \nP.S: Please note that there will be some adult content in the readings.
URL:https://driftheatre.org/event/drift-reads-session-v-fairy-tales-special/
LOCATION:The Chocolate Log\, McLeodganj Rd\, McLeod Ganj\, Dharamshala\, Himachal Pradesh 176219\, India
ORGANIZER;CN="driftheatre":MAILTO:driftheatre@gmail.com
END:VEVENT
END:VCALENDAR