BEGIN:VCALENDAR
VERSION:2.0
PRODID:-//d.r.i.f.t.  - ECPv6.9.0//NONSGML v1.0//EN
CALSCALE:GREGORIAN
METHOD:PUBLISH
X-ORIGINAL-URL:https://driftheatre.org
X-WR-CALDESC:Events for d.r.i.f.t. 
REFRESH-INTERVAL;VALUE=DURATION:PT1H
X-Robots-Tag:noindex
X-PUBLISHED-TTL:PT1H
BEGIN:VTIMEZONE
TZID:Asia/Kolkata
BEGIN:STANDARD
TZOFFSETFROM:+0530
TZOFFSETTO:+0530
TZNAME:IST
DTSTART:20170101T000000
END:STANDARD
END:VTIMEZONE
BEGIN:VEVENT
DTSTART;TZID=Asia/Kolkata:20170916T173000
DTEND;TZID=Asia/Kolkata:20170916T190000
DTSTAMP:20260421T213412
CREATED:20201205T100502Z
LAST-MODIFIED:20201205T100955Z
UID:2467-1505583000-1505588400@driftheatre.org
SUMMARY:DRIFT Reads: Session VII (Creation Myths Special)
DESCRIPTION:Dharamshala Residential & International Festival for Theatre presents\nd.r.i.f.t. Reads: Session VII\nCreation Myths Special.\n“Within infinite myths lie an eternal truth\nWho sees it all?\nVaruna has but a thousand eyes\nIndra a hundred\nYou and I\, only two.”\nThis weekend come listen to us read about the Myths of Creation. On the beginnings of the Universe. Was the universe an outcome of the Big Bang or is there more to the beginning of us? Do all cultures have Creation Myths?\nCome hear us read about the Greek\, the Indian\, the Norse\, Maori\, and more and lets talk some more about these questions.\nJoin us at the Lovely Bogdo Cafe overlooking the mystical mountains.\nWe look forward to seeing you.
URL:https://driftheatre.org/event/drift-reads-session-vii-creation-myths-special/
LOCATION:Bogdo Cafe\, McLeod Ganj\, Dharamshala\, Himachal Pradesh 176219\, India
ORGANIZER;CN="driftheatre":MAILTO:driftheatre@gmail.com
END:VEVENT
END:VCALENDAR