BEGIN:VCALENDAR
VERSION:2.0
PRODID:-//d.r.i.f.t.  - ECPv6.9.0//NONSGML v1.0//EN
CALSCALE:GREGORIAN
METHOD:PUBLISH
X-ORIGINAL-URL:https://driftheatre.org
X-WR-CALDESC:Events for d.r.i.f.t. 
REFRESH-INTERVAL;VALUE=DURATION:PT1H
X-Robots-Tag:noindex
X-PUBLISHED-TTL:PT1H
BEGIN:VTIMEZONE
TZID:Asia/Kolkata
BEGIN:STANDARD
TZOFFSETFROM:+0530
TZOFFSETTO:+0530
TZNAME:IST
DTSTART:20170101T000000
END:STANDARD
END:VTIMEZONE
BEGIN:VEVENT
DTSTART;TZID=Asia/Kolkata:20171004T173000
DTEND;TZID=Asia/Kolkata:20171004T190000
DTSTAMP:20260421T180848
CREATED:20201205T101630Z
LAST-MODIFIED:20201205T101645Z
UID:2476-1507138200-1507143600@driftheatre.org
SUMMARY:DRIFT Reads: Session VIII
DESCRIPTION:Dharamshala Residential & International Festival for Theatre presents\nd.r.i.f.t. Reads: Session VIII \nSo the SHAH of BLAH is being chased by the GRUFFALO who’s in cahoots with Gerald the Giraffe but little do they know that Harry Potter and Haroun are just around the corner with a Big Blue Balloon…\nCome and listen to what else happens in our evening of reading for Children and Young Adults (Old Adults Welcome tooo !!) at the Dolls4Tibet studio where stories come alive through little handmade dolls !\nWe’ll be Reading from Harry Potter\, Terry Pratchett\, Neil Gaiman\, Julia Donaldson etc. just to name a few.\nCome with Children aged Four to Forever Children at Heart \nWe look forward to seeing you 
URL:https://driftheatre.org/event/drift-reads-session-viii/
LOCATION:Dolls4Tibet Studio\, Session Rd\, near Kashmir House Hotel\, Kotwali Bazaar Dharamsala\, Himachal Pradesh\, India 176215\, India
ORGANIZER;CN="driftheatre":MAILTO:driftheatre@gmail.com
END:VEVENT
BEGIN:VEVENT
DTSTART;VALUE=DATE:20171007
DTEND;VALUE=DATE:20171009
DTSTAMP:20260421T180848
CREATED:20201205T102010Z
LAST-MODIFIED:20201205T102010Z
UID:2481-1507334400-1507507199@driftheatre.org
SUMMARY:Acting & Movement Training Workshop by Niranjani Iyer
DESCRIPTION:Tibet Film Festival-India is pleased to host a workshop by the wonderful Niranjani Iyer for aspiring Tibetan actors and theatre enthusiasts in Dharamshala. \n\nThis Acting & Movement Training Workshop will focus on getting an understanding of how our body moves. The aim of this workshop will be to reimagine our relationship to our body\, spark the imagination\, and enable actors to create different physicalities. Participants will take away a new understanding of their body\, that of an instrument that actors have at their disposal\, and unlock new ways of expression through the body.\nNiranjani Iyer is a performer\, director\, choreographer and educator. She has been living and working between France and India for 17 years. She studied theatre at the Ecole Jacques Lecoq and the Sorbonne University\, Paris and is visiting faculty at the National School of Drama\, Delhi.\nWe especially invite aspiring Tibetan actors and theatre enthusiasts to participate in this workshop!\nWhen: 7 & 8 October\, 2017\nVenue: To be confrmed. Will be in Mcleodganj\nEntry: Free\n* The only thing we do ask is that once you sign-up\, you commit to the entire duration of the workshop out of respect to fellow participants and Niranjani.\nTo sign up\, call 8350907531 or shoot an email to indiacoordinator@tibetfilmfestival.org
URL:https://driftheatre.org/event/acting-movement-training-workshop-by-niranjani-iyer/
LOCATION:Tibetan Community Hall\, Tibetan Community Hall\, Behind Tibetan Welfare Office\, Bhagsu Road\, India
ORGANIZER;CN="driftheatre":MAILTO:driftheatre@gmail.com
END:VEVENT
END:VCALENDAR